BEGIN:VCALENDAR
VERSION:2.0
PRODID:-//IXAS: The International X-ray Absorption Society - ECPv6.15.15//NONSGML v1.0//EN
CALSCALE:GREGORIAN
METHOD:PUBLISH
X-WR-CALNAME:IXAS: The International X-ray Absorption Society
X-ORIGINAL-URL:https://xrayabsorption.org
X-WR-CALDESC:Events for IXAS: The International X-ray Absorption Society
REFRESH-INTERVAL;VALUE=DURATION:PT1H
X-Robots-Tag:noindex
X-PUBLISHED-TTL:PT1H
BEGIN:VTIMEZONE
TZID:America/Los_Angeles
BEGIN:DAYLIGHT
TZOFFSETFROM:-0800
TZOFFSETTO:-0700
TZNAME:PDT
DTSTART:20190310T100000
END:DAYLIGHT
BEGIN:STANDARD
TZOFFSETFROM:-0700
TZOFFSETTO:-0800
TZNAME:PST
DTSTART:20191103T090000
END:STANDARD
BEGIN:DAYLIGHT
TZOFFSETFROM:-0800
TZOFFSETTO:-0700
TZNAME:PDT
DTSTART:20200308T100000
END:DAYLIGHT
BEGIN:STANDARD
TZOFFSETFROM:-0700
TZOFFSETTO:-0800
TZNAME:PST
DTSTART:20201101T090000
END:STANDARD
BEGIN:DAYLIGHT
TZOFFSETFROM:-0800
TZOFFSETTO:-0700
TZNAME:PDT
DTSTART:20210314T100000
END:DAYLIGHT
BEGIN:STANDARD
TZOFFSETFROM:-0700
TZOFFSETTO:-0800
TZNAME:PST
DTSTART:20211107T090000
END:STANDARD
END:VTIMEZONE
BEGIN:VEVENT
DTSTART;TZID=America/Los_Angeles:20200330T090000
DTEND;TZID=America/Los_Angeles:20200330T100000
DTSTAMP:20260422T215931
CREATED:20200512T035015Z
LAST-MODIFIED:20200512T035932Z
UID:343-1585558800-1585562400@xrayabsorption.org
SUMMARY:Kelsey Morgan: Hot science with cool sensors
DESCRIPTION:The transition-edge sensor (TES) microcalorimeter uses the sharply temperature-dependent resistance of the superconducting transition to measure the energy of X-ray and gamma ray photons. A single TES is a broadband\, energy-dispersive area detector capable of eV-scale energy resolution with good quantum efficiency. With an array of hundreds or thousands of sensors\, a TES-based spectrometer can have orders of magnitude higher throughput than wavelength dispersive instruments. In this talk\, I will introduce the basic principles of TES operation\, and discuss how they are exploited to design sensors with resolving power R > 1000 at a wide range of photon energies\, from soft X-rays to gamma rays. This capability makes the TES a powerful tool for PFY-XAFS\, RIXS\, and time-resolved XES/XAS measurements\, particularly for weak sources or for highly dilute or radiation-sensitive samples. I will provide a brief overview of the TES spectrometers that are currently available to the X-ray science community\, and then highlight some exciting new instruments that are currently under development. \nhttps://physicstoday.scitation.org/doi/full/10.1063/PT.3.3995
URL:https://xrayabsorption.org/events/journalclub-kelsey-morgan/
CATEGORIES:XAFS Journal Club
END:VEVENT
BEGIN:VEVENT
DTSTART;TZID=America/Los_Angeles:20200326T090000
DTEND;TZID=America/Los_Angeles:20200326T100000
DTSTAMP:20260422T215931
CREATED:20200512T035155Z
LAST-MODIFIED:20200512T035932Z
UID:345-1585213200-1585216800@xrayabsorption.org
SUMMARY:Adam Hitchcock: Soft X-ray Spectromicroscopy in Scanning Transmission X-ray Microscopes
DESCRIPTION:Soft X-ray scanning transmission microscopy (STXM) is a powerful tool for nanoscale materials analysis\, with significant advantages over analytical electron microscopies for studies of radiation sensitive materials. Chemical species identified by near edge X-ray absorption fine structure (NEXAFS) spectra can be mapped quantitatively in 2D and in 3D. STXM instrumentation and methods will be described\, with emphasis on spectromicroscopy: chemical mapping by the analysis of images measured at many photon energies. Performance will be illustrated by recent studies of (i) cathodes of low temperature\, proton exchange membrane fuel cells (PEM-FC)\, which are under development for automotive applications\, and (ii) biomineralization of single domain\, single crystal nano-magnetite by magnetotactic bacteria. \nReferences: https://doi.org/10.1016/j.elspec.2015.05.013 and https://doi.org/10.1016/j.jpowsour.2018.01.074 and https://doi.org/10.1016/j.chemgeo.2019.119348
URL:https://xrayabsorption.org/events/journalclub-adam-hitchcock/
CATEGORIES:XAFS Journal Club
END:VEVENT
BEGIN:VEVENT
DTSTART;TZID=America/Los_Angeles:20200323T090000
DTEND;TZID=America/Los_Angeles:20200323T100000
DTSTAMP:20260422T215931
CREATED:20200512T035351Z
LAST-MODIFIED:20200512T035932Z
UID:347-1584954000-1584957600@xrayabsorption.org
SUMMARY:Evan Jahrman	Core-to-core X-ray Emission Spectroscopy: Pitfalls and Advantages for Lab-based and Synchrotron Users
DESCRIPTION:Core-to-core X-ray emission spectroscopy (CTC-XES) has not only provided key insights into atomic physics but is extremely well positioned to serve as a major analytical technique for several materials systems in the coming decades. Moreover\, CTC-XES frequently serves as an enabling phenomenon for more exotic varieties of synchrotron-based XAFS. I will cover several applications of CTC-XES and explain the origin and shape of commonly observed spectral features. I intend to make this talk both a pleasant refresher for seasoned X-ray physicists and useful to graduate students preparing to embark on their own materials characterization campaigns. \nReferences: https://doi.org/10.1103/PhysRevB.50.11347 and\nhttps://doi.org/10.1021/acs.analchem.8b00302
URL:https://xrayabsorption.org/events/journalclub-evan-jahrman/
CATEGORIES:XAFS Journal Club
END:VEVENT
BEGIN:VEVENT
DTSTART;TZID=America/Los_Angeles:20200319T090000
DTEND;TZID=America/Los_Angeles:20200319T100000
DTSTAMP:20260422T215931
CREATED:20200512T035516Z
LAST-MODIFIED:20200512T035557Z
UID:349-1584608400-1584612000@xrayabsorption.org
SUMMARY:Simo Huotari:	X-ray Raman spectroscopy: glimpse of the state of the art for samples in complex environments
DESCRIPTION:In this lecture I will continue where the previous lecture ends and talk about some examples of how XRS is used to study materials under high pressure and chemical reactions. \nReferences: https://www.nature.com/articles/nmat3031 and https://pubs.acs.org/doi/abs/10.1021/jp912208v
URL:https://xrayabsorption.org/events/journalclub-simo-huotari/
CATEGORIES:XAFS Journal Club
END:VEVENT
BEGIN:VEVENT
DTSTART;TZID=America/Los_Angeles:20200318T090000
DTEND;TZID=America/Los_Angeles:20200318T100000
DTSTAMP:20260422T215931
CREATED:20200512T035717Z
LAST-MODIFIED:20200512T035717Z
UID:351-1584522000-1584525600@xrayabsorption.org
SUMMARY:Jerry Seidler: What is X-ray Raman Scattering\, and What Did Raman Have to Do With It?
DESCRIPTION:X-ray Raman Scattering (XRS\, often also called nonresonant inelastic x-ray scattering)\, is a hard x-ray alternative to soft x-ray NEXAFS. I’ll review the basic physics\, including the role of momentum transfer to tune selection rules. And I’ll explain Raman’s involvement\, or lack thereof. \nReferences:\nhttps://journals.aps.org/prb/abstract/10.1103/PhysRevB.74.214117  and https://journals.aps.org/prl/abstract/10.1103/PhysRevLett.105.053202
URL:https://xrayabsorption.org/events/journalclub-jerry-seidler_mar2020/
CATEGORIES:XAFS Journal Club
END:VEVENT
END:VCALENDAR