BEGIN:VCALENDAR
VERSION:2.0
PRODID:-//IXAS: The International X-ray Absorption Society - ECPv6.15.15//NONSGML v1.0//EN
CALSCALE:GREGORIAN
METHOD:PUBLISH
X-ORIGINAL-URL:https://xrayabsorption.org
X-WR-CALDESC:Events for IXAS: The International X-ray Absorption Society
REFRESH-INTERVAL;VALUE=DURATION:PT1H
X-Robots-Tag:noindex
X-PUBLISHED-TTL:PT1H
BEGIN:VTIMEZONE
TZID:UTC
BEGIN:STANDARD
TZOFFSETFROM:+0000
TZOFFSETTO:+0000
TZNAME:UTC
DTSTART:20250101T000000
END:STANDARD
END:VTIMEZONE
BEGIN:VEVENT
DTSTART;VALUE=DATE:20260810
DTEND;VALUE=DATE:20260819
DTSTAMP:20260422T222043
CREATED:20260222T014942Z
LAST-MODIFIED:20260420T110911Z
UID:1054-1786320000-1787097599@xrayabsorption.org
SUMMARY:IUCr2026
DESCRIPTION:IUCr2026 will be held at Calgary\, Canada\, between August 11 – 18. \nXAFS Workshop will be also held on August 10. \nXAFS-related keynote speakers and micro-symposiums are announced.
URL:https://xrayabsorption.org/events/iucr2026/
LOCATION:Calgary\, Alberta\, Canada\, Calgary\, Canada
END:VEVENT
BEGIN:VEVENT
DTSTART;VALUE=DATE:20260810
DTEND;VALUE=DATE:20260811
DTSTAMP:20260422T222043
CREATED:20260401T045009Z
LAST-MODIFIED:20260401T045049Z
UID:1062-1786320000-1786406399@xrayabsorption.org
SUMMARY:IUCr 2026 WORKSHOP 006 - X-ray absorption fine structure (XAFS)
DESCRIPTION:IUCr 2026 WORKSHOP 006 – X-ray absorption fine structure (XAFS)\nDuring the IUCr 2026 conference\, a one day workshop 006 on XAFS will be held at August 10\, 2026 \nWebsite: https://event.fourwaves.com/iucr-2026/pages/514c6a89-0475-4ba1-b833-8d0b507df2f6\nOrganizer: Sofia Diaz-Morena
URL:https://xrayabsorption.org/events/iucr-2026-workshop-006-x-ray-absorption-fine-structure-xafs/
END:VEVENT
END:VCALENDAR