BEGIN:VCALENDAR
VERSION:2.0
PRODID:-//IXAS: The International X-ray Absorption Society - ECPv6.15.15//NONSGML v1.0//EN
CALSCALE:GREGORIAN
METHOD:PUBLISH
X-WR-CALNAME:IXAS: The International X-ray Absorption Society
X-ORIGINAL-URL:https://xrayabsorption.org
X-WR-CALDESC:Events for IXAS: The International X-ray Absorption Society
REFRESH-INTERVAL;VALUE=DURATION:PT1H
X-Robots-Tag:noindex
X-PUBLISHED-TTL:PT1H
BEGIN:VTIMEZONE
TZID:UTC
BEGIN:STANDARD
TZOFFSETFROM:+0000
TZOFFSETTO:+0000
TZNAME:UTC
DTSTART:20250101T000000
END:STANDARD
END:VTIMEZONE
BEGIN:VEVENT
DTSTART;VALUE=DATE:20260621
DTEND;VALUE=DATE:20260627
DTSTAMP:20260421T121755
CREATED:20250516T141707Z
LAST-MODIFIED:20260209T143230Z
UID:1005-1782000000-1782518399@xrayabsorption.org
SUMMARY:XAFS19 (XAFS 2026)
DESCRIPTION:The 19th International XAFS conference in 2026 in Chiang Mai\, Thailand\nXAFS 2026\, The 19th International XAFS Conference (XAFS2026) will be held in Thailand\, from June 21 to June 26\, 2026\nVenue: The Empress Convention Center and Hotel\, Chiang Mai.\nWebsite: http://www.xafs2026.org/\nOrganizer: Synchrotron Light Research Institute\nConference Chair: Wantana Klysubun \nThe abstract submission deadline for “Poster Presentation” has been extended to 28 February 2026. \n(XAFS2025 is cancelled.) \n 
URL:https://xrayabsorption.org/events/xafs19-xafs-2026/
LOCATION:Chiang Mai\, Thailand\, The Empress Convention Center and Hotel\, Chiang Mai\, Thailand
CATEGORIES:XAFS Conference
END:VEVENT
END:VCALENDAR